BEGIN:VCALENDAR
VERSION:2.0
PRODID:-//ZRK – Zentrum für Risiko- und Krisenmanagement  - ECPv6.15.17.1//NONSGML v1.0//EN
CALSCALE:GREGORIAN
METHOD:PUBLISH
X-WR-CALNAME:ZRK – Zentrum für Risiko- und Krisenmanagement 
X-ORIGINAL-URL:https://www.zfrk.org
X-WR-CALDESC:Veranstaltungen für ZRK – Zentrum für Risiko- und Krisenmanagement 
REFRESH-INTERVAL;VALUE=DURATION:PT1H
X-Robots-Tag:noindex
X-PUBLISHED-TTL:PT1H
BEGIN:VTIMEZONE
TZID:Europe/Paris
BEGIN:DAYLIGHT
TZOFFSETFROM:+0100
TZOFFSETTO:+0200
TZNAME:CEST
DTSTART:20250330T010000
END:DAYLIGHT
BEGIN:STANDARD
TZOFFSETFROM:+0200
TZOFFSETTO:+0100
TZNAME:CET
DTSTART:20251026T010000
END:STANDARD
BEGIN:DAYLIGHT
TZOFFSETFROM:+0100
TZOFFSETTO:+0200
TZNAME:CEST
DTSTART:20260329T010000
END:DAYLIGHT
BEGIN:STANDARD
TZOFFSETFROM:+0200
TZOFFSETTO:+0100
TZNAME:CET
DTSTART:20261025T010000
END:STANDARD
BEGIN:DAYLIGHT
TZOFFSETFROM:+0100
TZOFFSETTO:+0200
TZNAME:CEST
DTSTART:20270328T010000
END:DAYLIGHT
BEGIN:STANDARD
TZOFFSETFROM:+0200
TZOFFSETTO:+0100
TZNAME:CET
DTSTART:20271031T010000
END:STANDARD
END:VTIMEZONE
BEGIN:VEVENT
DTSTART;TZID=Europe/Paris:20260416T160000
DTEND;TZID=Europe/Paris:20260416T220000
DTSTAMP:20260421T101132
CREATED:20250719T181040Z
LAST-MODIFIED:20260316T161235Z
UID:10000008-1776355200-1776376800@www.zfrk.org
SUMMARY:3. ZRK Frühlingsempfang
DESCRIPTION:Mehr Informationen folgen in Kürze
URL:https://www.zfrk.org/termin/3-zrk-fruehlingsempfang/
LOCATION:Parlamentsgebäude der Republik Österreich\, Dr.-Karl-Renner-Ring 3\, Wien\, Wien\, 1017\, Austria
ORGANIZER;CN="ZRK %E2%80%93 Zentrum f%C3%BCr Risiko- und Krisenmanagement":MAILTO:events@zfrk.org
END:VEVENT
BEGIN:VEVENT
DTSTART;TZID=Europe/Paris:20260416T130000
DTEND;TZID=Europe/Paris:20260416T153000
DTSTAMP:20260421T101132
CREATED:20250719T163626Z
LAST-MODIFIED:20260316T174532Z
UID:10000003-1776344400-1776353400@www.zfrk.org
SUMMARY:1. ZRK DACH-ENQUETE Strategische Resilienz
DESCRIPTION:Das ZRK veranstaltet: 1. ZRK DACH-ENQUETE Strategische Resilienz 
URL:https://www.zfrk.org/termin/1-zrk-dach-enquete-strategische-resilienz/
LOCATION:Parlamentsgebäude der Republik Österreich\, Dr.-Karl-Renner-Ring 3\, Wien\, Wien\, 1017\, Austria
ORGANIZER;CN="ZRK %E2%80%93 Zentrum f%C3%BCr Risiko- und Krisenmanagement":MAILTO:events@zfrk.org
END:VEVENT
END:VCALENDAR